BEGIN:VCALENDAR
VERSION:2.0
PRODID:-//ExpressionEngine Easy iCalendar plugin//NONSGML v2.0.0//EN
X-WR-TIMEZONE:America/Chicago
X-WR-CALNAME:Upcoming Auctions
BEGIN:VEVENT
UID:154297
DTSTAMP:20260202T120000
DTSTART:20260202T120000
DTEND:20260209T180000
SUMMARY:Online Winter Equipment Auction
LOCATION:{location}
DESCRIPTION:Online Timed Auction: Vehicles\, Farm Equipment\, Construction
  Equipment\, and Much More! Bidding Opens: Monday\, February 2
 nd at noon Bidding Begins to Close: Monday\, February 9th at
  6 PM Location: Unless stated in the item description\, items
  are located at 4489 Cookeville Hwy\, Cookeville\, TN 38506
URL:https://www.dynamiteauctioncompany.com/auctions/detail/bw154
 297
SEQUENCE:1
END:VEVENT
END:VCALENDAR